BEGIN:VCALENDAR
VERSION:2.0
PRODID:-//Tukios.com/
BEGIN:VEVENT
UID:32e57114-9681-4d13-ad9b-38ce4b9ab7df@www.quinlanfuneralhome.com
DTSTAMP:20260423T233258Z
DTSTART:20260427T160000Z
DTEND:20260427T170000Z
SUMMARY:Funeral Service
DESCRIPTION:
URL:https://www.quinlanfuneralhome.com/obituaries/james-eugene-jackson
LOCATION:Union Valley Church of Christ 9424 Farm to Market 35  Royse City 
	TX 75189
GEO:32.9173017;-96.2410978
END:VEVENT
END:VCALENDAR