BEGIN:VCALENDAR
VERSION:2.0
PRODID:-//Tukios.com/
BEGIN:VEVENT
UID:1edc1076-0054-4a2e-b670-f8439c9965b4@www.quinlanfuneralhome.com
DTSTAMP:20260423T233238Z
DTSTART:20260427T150000Z
DTEND:20260427T160000Z
SUMMARY:Visitation
DESCRIPTION:
URL:https://www.quinlanfuneralhome.com/obituaries/james-eugene-jackson
LOCATION:Union Valley Church of Christ 9424 Farm to Market 35  Royse City 
	TX 75189
GEO:32.9173017;-96.2410978
END:VEVENT
END:VCALENDAR