BEGIN:VCALENDAR
VERSION:2.0
PRODID:-//Tukios.com/
BEGIN:VEVENT
UID:91273cdd-0e2b-49af-b8bc-a441aa861001@www.quinlanfuneralhome.com
DTSTAMP:20260421T211146Z
DTSTART:20260501T180000Z
DTEND:20260501T190000Z
SUMMARY:Celebration of Life
DESCRIPTION:
URL:https://www.quinlanfuneralhome.com/obituaries/charles-miller
LOCATION:Quinlan Funeral Home 8930 TX - 34  Quinlan TX 75474
GEO:32.9045442;-96.1286157
END:VEVENT
END:VCALENDAR